BEGIN:VCALENDAR
VERSION:2.0
PRODID:spatie/icalendar-generator
DESCRIPTION:Events from PlantBamboo
X-WR-CALDESC:Events from PlantBamboo
REFRESH-INTERVAL;VALUE=DURATION:PT1440M
X-PUBLISHED-TTL:PT1440M
BEGIN:VTIMEZONE
TZID:Etc/GMT+0
BEGIN:STANDARD
DTSTART:20250119T000000Z
TZOFFSETFROM:+0000
TZOFFSETTO:+0000
END:STANDARD
END:VTIMEZONE
BEGIN:VTIMEZONE
TZID:UTC
BEGIN:STANDARD
DTSTART:20250728T023938Z
TZOFFSETFROM:+0000
TZOFFSETTO:+0000
END:STANDARD
END:VTIMEZONE
BEGIN:VEVENT
UID:29-22
DTSTAMP:20260424T023938Z
SUMMARY:Okeetober Fest
LOCATION:PlantBamboo 27695 SW Martin Hwy  Okeechobee Florida 34974
ORGANIZER;CN=admin:MAILTO:carolyn@carolynrosedesigns.com
DTSTART;TZID=Etc/GMT+0;VALUE=DATE:20251016
DTEND;TZID=Etc/GMT+0;VALUE=DATE:20251020
X-ALT-DESC;FMTTYPE=TEXT/HTML:21+ Only &amp;nbsp\; Pricing: Wednesday - $120 Thu
 rsday - $110 Friday - $100 Saturday - $90 Sunday - $40
CATEGORIES:Events
URL;VALUE=URI:https://plantbamboo.net/mc-events/okeetober-fest/
METHOD:PUBLISH
END:VEVENT
END:VCALENDAR