BEGIN:VCALENDAR
VERSION:2.0
PRODID:spatie/icalendar-generator
DESCRIPTION:Events from PlantBamboo
X-WR-CALDESC:Events from PlantBamboo
REFRESH-INTERVAL;VALUE=DURATION:PT1440M
X-PUBLISHED-TTL:PT1440M
BEGIN:VTIMEZONE
TZID:Etc/GMT+0
BEGIN:STANDARD
DTSTART:20240519T000000Z
TZOFFSETFROM:+0000
TZOFFSETTO:+0000
END:STANDARD
END:VTIMEZONE
BEGIN:VTIMEZONE
TZID:UTC
BEGIN:STANDARD
DTSTART:20250724T141154Z
TZOFFSETFROM:+0000
TZOFFSETTO:+0000
END:STANDARD
END:VTIMEZONE
BEGIN:VEVENT
UID:8-11
DTSTAMP:20260420T141154Z
SUMMARY:Muddy Valentine
LOCATION:PlantBamboo 27695 SW Martin Hwy  Okeechobee Florida 34974
ORGANIZER;CN=admin:MAILTO:carolyn@carolynrosedesigns.com
DTSTART;TZID=Etc/GMT+0;VALUE=DATE:20250213
DTEND;TZID=Etc/GMT+0;VALUE=DATE:20250217
X-ALT-DESC;FMTTYPE=TEXT/HTML:
CATEGORIES:Events
URL;VALUE=URI:https://plantbamboo.net/mc-events/muddy-valentine/
METHOD:PUBLISH
END:VEVENT
END:VCALENDAR